View In:
ArcGIS JavaScript
ArcGIS.com Map
Google Earth
ArcMap
View Footprint In:
ArcGIS.com Map
Service Description: SWOOP Imagery comprised of 8-bit 4-band (RGB/NIR) GeoTiffs (20cm resolution)
Images captured between 2015-04-18 and 2015-05-23
Name: Imagery_2015
Description: SWOOP Imagery comprised of 8-bit 4-band (RGB/NIR) GeoTiffs (20cm resolution)
Images captured between 2015-04-18 and 2015-05-23
Single Fused Map Cache: false
Extent:
XMin: 510000
YMin: 4790000
XMax: 566000
YMax: 4838000
Spatial Reference: 26917
(26917)
Initial Extent:
XMin: 510000
YMin: 4790000
XMax: 566000
YMax: 4838000
Spatial Reference: 26917
(26917)
Full Extent:
XMin: 510000
YMin: 4790000
XMax: 566000
YMax: 4838000
Spatial Reference: 26917
(26917)
Pixel Size X: 0.2
Pixel Size Y: 0.2
Band Count: 4
Pixel Type: U8
RasterFunction Infos: N/A
Mensuration Capabilities: None
Has Histograms: true
Has Colormap: false
Min Scale: 0
Max Scale: 0
Copyright Text: Ministry of Natural Resources, Fugro Geospatial - Rapid City Office
Service Data Type: esriImageServiceDataTypeGeneric
Min Values: 1, 1, 1, 1
Max Values: 253, 253, 253, 253
Mean Values: 94.73512091189333, 96.3821795176, 72.89924571061333, 172.83309299656
Standard Deviation Values: 41.87071975536979, 32.683378985101875, 28.584597777751082, 34.641771429561615
Object ID Field: OBJECTID
Fields:
-
OBJECTID
(
type: esriFieldTypeOID
, alias: OBJECTID
)
-
Shape
(
type: esriFieldTypeGeometry
, alias: Shape
)
-
Name
(
type: esriFieldTypeString
, alias: Name
, length: 200
)
-
MinPS
(
type: esriFieldTypeDouble
, alias: MinPS
)
-
MaxPS
(
type: esriFieldTypeDouble
, alias: MaxPS
)
-
LowPS
(
type: esriFieldTypeDouble
, alias: LowPS
)
-
HighPS
(
type: esriFieldTypeDouble
, alias: HighPS
)
-
Category
(
type: esriFieldTypeInteger
, alias: Category
, Coded Values:
[0: Unknown]
, [1: Primary]
, [2: Overview]
, ...5 more...
)
-
Tag
(
type: esriFieldTypeString
, alias: Tag
, length: 100
)
-
GroupName
(
type: esriFieldTypeString
, alias: GroupName
, length: 100
)
-
ProductName
(
type: esriFieldTypeString
, alias: ProductName
, length: 100
)
-
CenterX
(
type: esriFieldTypeDouble
, alias: CenterX
)
-
CenterY
(
type: esriFieldTypeDouble
, alias: CenterY
)
-
ZOrder
(
type: esriFieldTypeInteger
, alias: ZOrder
)
-
Shape_Length
(
type: esriFieldTypeDouble
, alias: Shape_Length
)
-
Shape_Area
(
type: esriFieldTypeDouble
, alias: Shape_Area
)
-
DateAcquired
(
type: esriFieldTypeDate
, alias: DateAcquired
, length: 8
)
Raster Attribute Table: false
Default Mosaic Method: Viewpoint
Allowed Mosaic Methods: Viewpoint,NorthWest,Center,LockRaster,ByAttribute,Nadir,Seamline,None
SortField:
SortValue: null
Mosaic Operator: First
Default Compression Quality: 80
Default Resampling Method: Bilinear
Max Record Count: 1000
Max Image Height: 4100
Max Image Width: 15000
Max Download Image Count: 20
Max Mosaic Image Count: 20
Allow Raster Function: true
Raster Type Infos:
Name: Raster Dataset
Description: Supports all ArcGIS Raster Datasets
Help:
Has Raster Attribute Table: false
Edit Fields Info: null
Ownership Based AccessControl For Rasters: null
Child Resources:
Info
Histograms
Key Properties
Supported Operations:
Export Image
Query
Identify
Compute Histograms