View In:
ArcGIS JavaScript
ArcGIS.com Map
Google Earth
ArcMap
View Footprint In:
ArcGIS.com Map
Service Description: 2016 Regional Imagery comprised of 3-band (RGB) .sids (12cm resolution)
Images captured between May 6-10, 2016
Name: Imagery_2016
Description: 2016 Regional Imagery comprised of 3-band (RGB) .sids (12cm resolution)
Images captured between May 6-10, 2016
Single Fused Map Cache: false
Extent:
XMin: 509999
YMin: 4789998.920000002
XMax: 566001.0799999967
YMax: 4838001.079999999
Spatial Reference: 26917
(26917)
Initial Extent:
XMin: 509999
YMin: 4789998.920000002
XMax: 566001.0799999967
YMax: 4838001.079999999
Spatial Reference: 26917
(26917)
Full Extent:
XMin: 509999
YMin: 4789998.920000002
XMax: 566001.0799999967
YMax: 4838001.079999999
Spatial Reference: 26917
(26917)
Pixel Size X: 0.11999999999999293
Pixel Size Y: 0.11999999999999339
Band Count: 3
Pixel Type: U8
RasterFunction Infos: N/A
Mensuration Capabilities: None
Has Histograms: true
Has Colormap: false
Min Scale: 0
Max Scale: 0
Copyright Text: First Base Solutions (2016)
Service Data Type: esriImageServiceDataTypeRGB
Min Values: 0, 0, 0
Max Values: 255, 255, 255
Mean Values: 114.90664611480777, 115.0367548938511, 108.24613317342828
Standard Deviation Values: 45.15011454118703, 36.15312517759471, 33.138337481073215
Object ID Field: OBJECTID
Fields:
-
OBJECTID
(
type: esriFieldTypeOID
, alias: OBJECTID
)
-
Shape
(
type: esriFieldTypeGeometry
, alias: Shape
)
-
Name
(
type: esriFieldTypeString
, alias: Name
, length: 200
)
-
MinPS
(
type: esriFieldTypeDouble
, alias: MinPS
)
-
MaxPS
(
type: esriFieldTypeDouble
, alias: MaxPS
)
-
LowPS
(
type: esriFieldTypeDouble
, alias: LowPS
)
-
HighPS
(
type: esriFieldTypeDouble
, alias: HighPS
)
-
Category
(
type: esriFieldTypeInteger
, alias: Category
, Coded Values:
[0: Unknown]
, [1: Primary]
, [2: Overview]
, ...6 more...
)
-
Tag
(
type: esriFieldTypeString
, alias: Tag
, length: 100
)
-
GroupName
(
type: esriFieldTypeString
, alias: GroupName
, length: 100
)
-
ProductName
(
type: esriFieldTypeString
, alias: ProductName
, length: 100
)
-
CenterX
(
type: esriFieldTypeDouble
, alias: CenterX
)
-
CenterY
(
type: esriFieldTypeDouble
, alias: CenterY
)
-
ZOrder
(
type: esriFieldTypeInteger
, alias: ZOrder
)
-
Shape_Length
(
type: esriFieldTypeDouble
, alias: Shape_Length
)
-
Shape_Area
(
type: esriFieldTypeDouble
, alias: Shape_Area
)
Raster Attribute Table: false
Default Mosaic Method: Northwest
Allowed Mosaic Methods: NorthWest,Center,LockRaster,ByAttribute,Nadir,Viewpoint,Seamline,None
SortField:
SortValue: null
Mosaic Operator: First
Default Compression Quality: 80
Default Resampling Method: Bilinear
Max Record Count: 1000
Max Image Height: 4100
Max Image Width: 15000
Max Download Image Count: 20
Max Mosaic Image Count: 20
Allow Raster Function: true
Raster Type Infos:
Name: Raster Dataset
Description: Supports all ArcGIS Raster Datasets
Help:
Has Raster Attribute Table: false
Edit Fields Info: null
Ownership Based AccessControl For Rasters: null
Child Resources:
Info
Histograms
Key Properties
Supported Operations:
Export Image
Query
Identify
Compute Histograms