View In:
ArcGIS JavaScript
ArcGIS.com Map
Google Earth
ArcMap
View Footprint In:
ArcGIS.com Map
Service Description: 12 cm imagery collected between May 8-10, 2017
Name: Imagery_2017
Description: 12 cm imagery collected between May 8-10, 2017
Single Fused Map Cache: false
Extent:
XMin: 528999
YMin: 4796999.04
XMax: 562001.0399999999
YMax: 4821001.08
Spatial Reference: 26917
(26917)
Initial Extent:
XMin: 528999
YMin: 4796999.04
XMax: 562001.0399999999
YMax: 4821001.08
Spatial Reference: 26917
(26917)
Full Extent:
XMin: 528999
YMin: 4796999.04
XMax: 562001.0399999999
YMax: 4821001.08
Spatial Reference: 26917
(26917)
Pixel Size X: 0.11999999999999972
Pixel Size Y: 0.12000000000000019
Band Count: 3
Pixel Type: U8
RasterFunction Infos: N/A
Mensuration Capabilities:
Has Histograms: true
Has Colormap: false
Min Scale: 0
Max Scale: 0
Copyright Text: City of Cambridge, City of Kitchener, City of Waterloo
Service Data Type: esriImageServiceDataTypeRGB
Min Values: 0, 0, 0
Max Values: 255, 255, 255
Mean Values: 107.87564298576697, 107.39811562634648, 105.29030056640453
Standard Deviation Values: 48.593488603568154, 43.5033814153557, 41.4405969686284
Object ID Field: OBJECTID
Fields:
-
OBJECTID
(
type: esriFieldTypeOID
, alias: OBJECTID
)
-
Shape
(
type: esriFieldTypeGeometry
, alias: Shape
)
-
Name
(
type: esriFieldTypeString
, alias: Name
, length: 50
)
-
MinPS
(
type: esriFieldTypeDouble
, alias: MinPS
)
-
MaxPS
(
type: esriFieldTypeDouble
, alias: MaxPS
)
-
LowPS
(
type: esriFieldTypeDouble
, alias: LowPS
)
-
HighPS
(
type: esriFieldTypeDouble
, alias: HighPS
)
-
Category
(
type: esriFieldTypeInteger
, alias: Category
, Coded Values:
[0: Unknown]
, [1: Primary]
, [2: Overview]
, ...6 more...
)
-
Tag
(
type: esriFieldTypeString
, alias: Tag
, length: 20
)
-
GroupName
(
type: esriFieldTypeString
, alias: GroupName
, length: 50
)
-
ProductName
(
type: esriFieldTypeString
, alias: ProductName
, length: 50
)
-
CenterX
(
type: esriFieldTypeDouble
, alias: CenterX
)
-
CenterY
(
type: esriFieldTypeDouble
, alias: CenterY
)
-
ZOrder
(
type: esriFieldTypeInteger
, alias: ZOrder
)
-
Shape_Length
(
type: esriFieldTypeDouble
, alias: Shape_Length
)
-
Shape_Area
(
type: esriFieldTypeDouble
, alias: Shape_Area
)
Raster Attribute Table: false
Default Mosaic Method: Northwest
Allowed Mosaic Methods: NorthWest,Center,LockRaster,ByAttribute,Nadir,Viewpoint,Seamline,None
SortField:
SortValue: null
Mosaic Operator: Max
Default Compression Quality: 75
Default Resampling Method: Bilinear
Max Record Count: 1000
Max Image Height: 4100
Max Image Width: 15000
Max Download Image Count: 20
Max Mosaic Image Count: 20
Allow Raster Function: true
Raster Type Infos:
Name: Raster Dataset
Description: Supports all ArcGIS Raster Datasets
Help:
Has Raster Attribute Table: false
Edit Fields Info: null
Ownership Based AccessControl For Rasters: null
Child Resources:
Info
Histograms
Key Properties
Supported Operations:
Export Image
Query
Identify
Measure
Compute Histograms